BEGIN:VCALENDAR
VERSION:2.0
PRODID:-//ChamberMaster//Event Calendar 2.0//EN
METHOD:PUBLISH
X-PUBLISHED-TTL:P3D
REFRESH-INTERVAL:P3D
CALSCALE:GREGORIAN
BEGIN:VEVENT
DTSTART:20260520T210000Z
DTEND:20260520T230000Z
X-MICROSOFT-CDO-ALLDAYEVENT:FALSE
SUMMARY:Mix and Mingle at Puerto Vallarta Bar & Grill
DESCRIPTION:Join the Chamber Connect Mitchell Committee for a Mix & Mingle on Wednesday\, May 20 from 4 6 p.m. at Puerto Vallarta (905 E Spruce St.)!\n\nCome out and enjoy great food while connecting with fellow professionals in a relaxed\, welcoming atmosphere. Whether you're looking to grow your network or just unwind after work\, this is a perfect opportunity to do both.\n\nWe hope to see you there!
X-ALT-DESC;FMTTYPE=text/html:<p class="isSelectedEnd">Join the Chamber Connect Mitchell Committee for a Mix &amp\; Mingle on Wednesday\, May 20 from 4&ndash\;6 p.m. at Puerto Vallarta (905 E Spruce St.)!</p>\n\n<p class="isSelectedEnd">Come out and enjoy great food while connecting with fellow professionals in a relaxed\, welcoming atmosphere. Whether you&#39\;re looking to grow your network or just unwind after work\, this is a perfect opportunity to do both.</p>\n\n<p>We hope to see you there!</p>\n
LOCATION:Puerto Vallarta Bar & Grill 905 E Spruce Mitchell\, SD 57301
UID:e.1624.42922
SEQUENCE:3
DTSTAMP:20260423T113012Z
URL:https://www.mitchellsd.com/events/details/mix-and-mingle-at-puerto-vallarta-bar-grill-42922
END:VEVENT

END:VCALENDAR
