BEGIN:VCALENDAR
VERSION:2.0
PRODID:-//ChamberMaster//Event Calendar 2.0//EN
METHOD:PUBLISH
X-PUBLISHED-TTL:P3D
REFRESH-INTERVAL:P3D
CALSCALE:GREGORIAN
BEGIN:VEVENT
DTSTART:20260512T230000Z
DTEND:20260513T010000Z
X-MICROSOFT-CDO-ALLDAYEVENT:FALSE
SUMMARY:YPG Star Wars Trivia Night
DESCRIPTION:Young Professionals Trivia: Star Wars Edition\n\n\n\nHello there! In honor of May the 4th\, we're dropping the best Star Wars trivia you've seen on this side of the Galaxy. Join us at Blarney's on May 12th and battle for a chance to win the GOAT trophy and some excellent prizes sponsored by Coborn's. It's not a trap! \n\n\n\n Rounds: \n\n1) Original Trilogy \n\n2) Prequels \n\n3) Best of the Rest (Clone Wars\, Stand Alone Movies\, etc.)\n\n\n\nDon't think your team has what it takes? We find your lack of faith disturbing... Round up your crew or come alone\, this is a great place to hang out and make friends. \n\n\n\nMay the Force be with you!
X-ALT-DESC;FMTTYPE=text/html:<div class="xdj266r x11i5rnm xat24cr x1mh8g0r x1vvkbs" style="margin: 0px\; overflow-wrap: break-word\; font-family: &quot\;Segoe UI Historic&quot\;\, &quot\;Segoe UI&quot\;\, Helvetica\, Arial\, sans-serif\; color: rgb(8\, 8\, 9)\; font-size: 15px\;">\n<div class="xdj266r x14z9mp xat24cr x1lziwak x1vvkbs" style="overflow-wrap: break-word\; margin-inline: 0px\; margin-bottom: 0px\; margin-top: 0px\; font-family: &quot\;Segoe UI Historic&quot\;\, &quot\;Segoe UI&quot\;\, Helvetica\, Arial\, sans-serif\; color: rgb(8\, 8\, 9)\; font-size: 15px\;"><span style="font-size:24px\;"><strong>Young Professionals Trivia: Star Wars&nbsp\;Edition</strong></span><br />\n<br />\n<span style="font-size:16px\;">Hello there! In honor of May the 4th\, we&#39\;re dropping the best Star Wars trivia you&#39\;ve seen on this side of the Galaxy. Join us at Blarney&rsquo\;s on May 12th and battle for a chance to win the GOAT trophy and some excellent prizes sponsored by Coborn&#39\;s. It&#39\;s not a trap!&nbsp\;<br />\n<br />\n&#127919\;Rounds:&nbsp\;<br />\n1) Original Trilogy&nbsp\;<br />\n2) Prequels&nbsp\;<br />\n3) Best of the Rest (Clone Wars\, Stand Alone Movies\, etc.)<br />\n<br />\nDon&#39\;t think your team has what it takes? We find your lack of faith disturbing... Round up your crew or come alone\, this is a great place to hang out and make friends.&nbsp\;<br />\n<br />\nMay the Force be with you!</span></div>\n\n<div>&nbsp\;</div>\n</div>\n
LOCATION:Blarney's Sports Bar and Grille
UID:e.1624.42921
SEQUENCE:3
DTSTAMP:20260423T120551Z
URL:https://www.mitchellsd.com/events/details/ypg-star-wars-trivia-night-42921
END:VEVENT

END:VCALENDAR
